BEGIN:VCALENDAR
VERSION:2.0
PRODID:-//St. Louis Kaplan Feldman Holocaust Museum - ECPv6.15.20//NONSGML v1.0//EN
CALSCALE:GREGORIAN
METHOD:PUBLISH
X-WR-CALNAME:St. Louis Kaplan Feldman Holocaust Museum
X-ORIGINAL-URL:https://stlholocaustmuseum.org
X-WR-CALDESC:Events for St. Louis Kaplan Feldman Holocaust Museum
REFRESH-INTERVAL;VALUE=DURATION:PT1H
X-Robots-Tag:noindex
X-PUBLISHED-TTL:PT1H
BEGIN:VTIMEZONE
TZID:America/Chicago
BEGIN:DAYLIGHT
TZOFFSETFROM:-0600
TZOFFSETTO:-0500
TZNAME:CDT
DTSTART:20250309T080000
END:DAYLIGHT
BEGIN:STANDARD
TZOFFSETFROM:-0500
TZOFFSETTO:-0600
TZNAME:CST
DTSTART:20251102T070000
END:STANDARD
BEGIN:DAYLIGHT
TZOFFSETFROM:-0600
TZOFFSETTO:-0500
TZNAME:CDT
DTSTART:20260308T080000
END:DAYLIGHT
BEGIN:STANDARD
TZOFFSETFROM:-0500
TZOFFSETTO:-0600
TZNAME:CST
DTSTART:20261101T070000
END:STANDARD
BEGIN:DAYLIGHT
TZOFFSETFROM:-0600
TZOFFSETTO:-0500
TZNAME:CDT
DTSTART:20270314T080000
END:DAYLIGHT
BEGIN:STANDARD
TZOFFSETFROM:-0500
TZOFFSETTO:-0600
TZNAME:CST
DTSTART:20271107T070000
END:STANDARD
END:VTIMEZONE
BEGIN:VEVENT
DTSTART;TZID=America/Chicago:20260423T140000
DTEND;TZID=America/Chicago:20260423T150000
DTSTAMP:20260422T060836
CREATED:20260416T203516Z
LAST-MODIFIED:20260421T183830Z
UID:376174-1776952800-1776956400@stlholocaustmuseum.org
SUMMARY:Public Program: Croissants & Conversation - Prayer for the French Republic [SOLD OUT!]
DESCRIPTION:A fascinating look at the true history behind NJT’s St. Louis premiere production of Joshua Harmon’s Prayer for the French Republic. Taking place in 1945-1946 and 2015\, the play follows five generations of a family in Paris who survive the Holocaust only to face new threats seventy years later. Dr. Dorian Stuber will provide an overview of the history of Jewish life in France\, focusing on the years leading up to and following World War II. He will also share the stories of some of those in our own St. Louis Jewish community whose family history connects them to France. Coffee and croissants will be served. \nDr. Stuber is the dramaturg for Prayer for the French Republic\, as well as Emeritus Professor at Hendrix College and member of the Missouri Holocaust Education and Awareness Commission. \nPrayer for the French Republic runs from April 16 – May 3 at the Jewish Community Center’s Wool Studio Theatre. For tickets and more information click here. \nSpecial thanks to the Rubin and Gloria Feldman Family Educational Institute for their support of Prayer for the French Republic and this and other associated outreach events. \nTHIS EVENT IS SOLD OUT!
URL:https://stlholocaustmuseum.org/event/public-program-croissants-conversation-prayer-for-the-french-republic-sold-out/
LOCATION:St. Louis Kaplan Feldman Holocaust Museum\, 36 Millstone Campus Drive\, St. Louis\, MO\, 63146\, United States
CATEGORIES:Public
ATTACH;FMTTYPE=image/png:https://stlholocaustmuseum.org/wp-content/uploads/2026/03/Croissants-and-Convo.png
END:VEVENT
END:VCALENDAR