BEGIN:VCALENDAR
VERSION:2.0
PRODID:-//St. Louis Kaplan Feldman Holocaust Museum - ECPv6.15.20//NONSGML v1.0//EN
CALSCALE:GREGORIAN
METHOD:PUBLISH
X-ORIGINAL-URL:https://stlholocaustmuseum.org
X-WR-CALDESC:Events for St. Louis Kaplan Feldman Holocaust Museum
REFRESH-INTERVAL;VALUE=DURATION:PT1H
X-Robots-Tag:noindex
X-PUBLISHED-TTL:PT1H
BEGIN:VTIMEZONE
TZID:America/Chicago
BEGIN:DAYLIGHT
TZOFFSETFROM:-0600
TZOFFSETTO:-0500
TZNAME:CDT
DTSTART:20250309T080000
END:DAYLIGHT
BEGIN:STANDARD
TZOFFSETFROM:-0500
TZOFFSETTO:-0600
TZNAME:CST
DTSTART:20251102T070000
END:STANDARD
BEGIN:DAYLIGHT
TZOFFSETFROM:-0600
TZOFFSETTO:-0500
TZNAME:CDT
DTSTART:20260308T080000
END:DAYLIGHT
BEGIN:STANDARD
TZOFFSETFROM:-0500
TZOFFSETTO:-0600
TZNAME:CST
DTSTART:20261101T070000
END:STANDARD
BEGIN:DAYLIGHT
TZOFFSETFROM:-0600
TZOFFSETTO:-0500
TZNAME:CDT
DTSTART:20270314T080000
END:DAYLIGHT
BEGIN:STANDARD
TZOFFSETFROM:-0500
TZOFFSETTO:-0600
TZNAME:CST
DTSTART:20271107T070000
END:STANDARD
BEGIN:DAYLIGHT
TZOFFSETFROM:-0600
TZOFFSETTO:-0500
TZNAME:CDT
DTSTART:20280312T080000
END:DAYLIGHT
BEGIN:STANDARD
TZOFFSETFROM:-0500
TZOFFSETTO:-0600
TZNAME:CST
DTSTART:20281105T070000
END:STANDARD
END:VTIMEZONE
BEGIN:VEVENT
DTSTART;TZID=America/Chicago:20260510T120000
DTEND;TZID=America/Chicago:20260510T160000
DTSTAMP:20260422T173532
CREATED:20260416T204029Z
LAST-MODIFIED:20260421T183745Z
UID:376175-1778414400-1778428800@stlholocaustmuseum.org
SUMMARY:Special Event: Hands on History
DESCRIPTION:Join us for a unique opportunity to get up close and personal with artifacts from our Collection. Several items not usually on display will be available for visitors to engage with\, a first-hand experience to learn what goes into preserving and documenting our artifacts. This is your chance to get your “hands on history.” \nThis event is included with purchase of an exhibit ticket.
URL:https://stlholocaustmuseum.org/event/special-event-hands-on-history/
LOCATION:St. Louis Kaplan Feldman Holocaust Museum\, 36 Millstone Campus Drive\, St. Louis\, MO\, 63146\, United States
CATEGORIES:Special Event
ATTACH;FMTTYPE=image/jpeg:https://stlholocaustmuseum.org/wp-content/uploads/2026/04/Hands-on-History.jpg
END:VEVENT
BEGIN:VEVENT
DTSTART;TZID=America/Chicago:20260514T180000
DTEND;TZID=America/Chicago:20260514T193000
DTSTAMP:20260422T173532
CREATED:20260416T204255Z
LAST-MODIFIED:20260421T183645Z
UID:376176-1778781600-1778787000@stlholocaustmuseum.org
SUMMARY:Public Program: Viral Hate - Antisemitism\, Conspiracy Culture\, and Online Radicalization
DESCRIPTION:Join the Museum\, in partnership with the Jewish Federation of St. Louis\, for a powerful panel on the surge of antisemitism\, conspiracy culture\, and online radicalization. Hear from leading experts on how hate spreads\, why conspiracy thinking takes hold\, and what each of us can do to recognize\, resist\, and respond to antisemitism. \nModerator: Mark Weitzman is a member of the official US delegation to the International Holocaust Remembrance Alliance (IHRA) where he chaired the Committee on Antisemitism and Holocaust Denial and the Working Group on Holocaust Museums and Memorials. \nPanelists: Tal-Or Cohen Montemayor is the Founder and Executive Director of CyberWell and a global expert on digital antisemitism. Mike Rothschild is a journalist and author of Jewish Space Lasers: The Rothschilds and 200 Years of Conspiracy Theories known for his deep research into antisemitic conspiracy theories and modern extremist movements. Anna Merlan is an investigative reporter specializing in conspiracy culture and extremist communities across the United States.
URL:https://stlholocaustmuseum.org/event/public-program-viral-hate-antisemitism-conspiracy-culture-and-online-radicalization/
LOCATION:St. Louis Kaplan Feldman Holocaust Museum\, 36 Millstone Campus Drive\, St. Louis\, MO\, 63146\, United States
CATEGORIES:Public
ATTACH;FMTTYPE=image/jpeg:https://stlholocaustmuseum.org/wp-content/uploads/2026/04/Viral-Hate-redone-scaled.jpg
END:VEVENT
BEGIN:VEVENT
DTSTART;TZID=America/Chicago:20260520T130000
DTEND;TZID=America/Chicago:20260520T140000
DTSTAMP:20260422T173532
CREATED:20260416T204602Z
LAST-MODIFIED:20260421T183618Z
UID:376177-1779282000-1779285600@stlholocaustmuseum.org
SUMMARY:Members-Only Program: Inside the Vault - There's Always More to the Story\, the Role of Context
DESCRIPTION:Through the larger theme of “More than Just Old Stuff” this session of Inside the Vault will be discussing the importance of context in telling stories about museum objects. Join our Archives & Collections staff to get a behind-the-scenes look at why our collection is the way it is and also help you better understand what our archives team’s role is at the museum.
URL:https://stlholocaustmuseum.org/event/members-only-program-inside-the-vault-theres-always-more-to-the-story-the-role-of-context/
LOCATION:St. Louis Kaplan Feldman Holocaust Museum\, 36 Millstone Campus Drive\, St. Louis\, MO\, 63146\, United States
CATEGORIES:Members-Only
ATTACH;FMTTYPE=image/jpeg:https://stlholocaustmuseum.org/wp-content/uploads/2026/02/InsidetheVault-crop.jpg
END:VEVENT
BEGIN:VEVENT
DTSTART;VALUE=DATE:20260525
DTEND;VALUE=DATE:20260526
DTSTAMP:20260422T173532
CREATED:20260421T184342Z
LAST-MODIFIED:20260421T184342Z
UID:376197-1779667200-1779753599@stlholocaustmuseum.org
SUMMARY:Memorial Day: Closed
DESCRIPTION:
URL:https://stlholocaustmuseum.org/event/memorial-day-closed/
LOCATION:St. Louis Kaplan Feldman Holocaust Museum\, 36 Millstone Campus Drive\, St. Louis\, MO\, 63146\, United States
CATEGORIES:Holiday Closure
END:VEVENT
BEGIN:VEVENT
DTSTART;TZID=America/Chicago:20260612T100000
DTEND;TZID=America/Chicago:20270131T163000
DTSTAMP:20260422T173532
CREATED:20260421T183024Z
LAST-MODIFIED:20260421T183501Z
UID:376192-1781258400-1801413000@stlholocaustmuseum.org
SUMMARY:Test
DESCRIPTION:Exhibit test
URL:https://stlholocaustmuseum.org/event/test/
LOCATION:St. Louis Kaplan Feldman Holocaust Museum\, 36 Millstone Campus Drive\, St. Louis\, MO\, 63146\, United States
CATEGORIES:Exhibition
END:VEVENT
BEGIN:VEVENT
DTSTART;VALUE=DATE:20260703
DTEND;VALUE=DATE:20260704
DTSTAMP:20260422T173532
CREATED:20260421T184413Z
LAST-MODIFIED:20260421T184413Z
UID:376198-1783036800-1783123199@stlholocaustmuseum.org
SUMMARY:Independence Day (observed): Closed
DESCRIPTION:
URL:https://stlholocaustmuseum.org/event/independence-day-observed-closed/
LOCATION:St. Louis Kaplan Feldman Holocaust Museum\, 36 Millstone Campus Drive\, St. Louis\, MO\, 63146\, United States
CATEGORIES:Holiday Closure
END:VEVENT
BEGIN:VEVENT
DTSTART;VALUE=DATE:20260704
DTEND;VALUE=DATE:20260705
DTSTAMP:20260422T173532
CREATED:20260421T184438Z
LAST-MODIFIED:20260421T184438Z
UID:376199-1783123200-1783209599@stlholocaustmuseum.org
SUMMARY:Independence Day: Closed
DESCRIPTION:
URL:https://stlholocaustmuseum.org/event/independence-day-closed/
LOCATION:St. Louis Kaplan Feldman Holocaust Museum\, 36 Millstone Campus Drive\, St. Louis\, MO\, 63146\, United States
CATEGORIES:Holiday Closure
END:VEVENT
BEGIN:VEVENT
DTSTART;VALUE=DATE:20260907
DTEND;VALUE=DATE:20260908
DTSTAMP:20260422T173532
CREATED:20260421T184509Z
LAST-MODIFIED:20260421T184509Z
UID:376200-1788739200-1788825599@stlholocaustmuseum.org
SUMMARY:Labor Day: Closed
DESCRIPTION:
URL:https://stlholocaustmuseum.org/event/labor-day-closed/
LOCATION:St. Louis Kaplan Feldman Holocaust Museum\, 36 Millstone Campus Drive\, St. Louis\, MO\, 63146\, United States
CATEGORIES:Holiday Closure
END:VEVENT
BEGIN:VEVENT
DTSTART;TZID=America/Chicago:20260911T150000
DTEND;TZID=America/Chicago:20260911T163000
DTSTAMP:20260422T173532
CREATED:20260421T184546Z
LAST-MODIFIED:20260421T184546Z
UID:376201-1789138800-1789144200@stlholocaustmuseum.org
SUMMARY:Rosh Hashanah Eve: Close at 3 pm
DESCRIPTION:
URL:https://stlholocaustmuseum.org/event/rosh-hashanah-eve-close-at-3-pm/
LOCATION:St. Louis Kaplan Feldman Holocaust Museum\, 36 Millstone Campus Drive\, St. Louis\, MO\, 63146\, United States
CATEGORIES:Holiday Closure
END:VEVENT
BEGIN:VEVENT
DTSTART;VALUE=DATE:20260912
DTEND;VALUE=DATE:20260913
DTSTAMP:20260422T173532
CREATED:20260421T184609Z
LAST-MODIFIED:20260421T184609Z
UID:376202-1789171200-1789257599@stlholocaustmuseum.org
SUMMARY:Rosh Hashanah: Closed
DESCRIPTION:
URL:https://stlholocaustmuseum.org/event/rosh-hashanah-closed/
LOCATION:St. Louis Kaplan Feldman Holocaust Museum\, 36 Millstone Campus Drive\, St. Louis\, MO\, 63146\, United States
CATEGORIES:Holiday Closure
END:VEVENT
BEGIN:VEVENT
DTSTART;TZID=America/Chicago:20260920T150000
DTEND;TZID=America/Chicago:20260920T163000
DTSTAMP:20260422T173532
CREATED:20260421T184643Z
LAST-MODIFIED:20260421T184643Z
UID:376203-1789916400-1789921800@stlholocaustmuseum.org
SUMMARY:Yom Kippur Eve: Close at 3 pm
DESCRIPTION:
URL:https://stlholocaustmuseum.org/event/yom-kippur-eve-close-at-3-pm/
LOCATION:St. Louis Kaplan Feldman Holocaust Museum\, 36 Millstone Campus Drive\, St. Louis\, MO\, 63146\, United States
CATEGORIES:Holiday Closure
END:VEVENT
BEGIN:VEVENT
DTSTART;VALUE=DATE:20260921
DTEND;VALUE=DATE:20260922
DTSTAMP:20260422T173532
CREATED:20260421T184712Z
LAST-MODIFIED:20260421T184712Z
UID:376204-1789948800-1790035199@stlholocaustmuseum.org
SUMMARY:Yom Kippur: Closed
DESCRIPTION:
URL:https://stlholocaustmuseum.org/event/yom-kippur-closed/
LOCATION:St. Louis Kaplan Feldman Holocaust Museum\, 36 Millstone Campus Drive\, St. Louis\, MO\, 63146\, United States
CATEGORIES:Holiday Closure
END:VEVENT
BEGIN:VEVENT
DTSTART;VALUE=DATE:20261126
DTEND;VALUE=DATE:20261127
DTSTAMP:20260422T173532
CREATED:20260421T184738Z
LAST-MODIFIED:20260421T184738Z
UID:376205-1795651200-1795737599@stlholocaustmuseum.org
SUMMARY:Thanksgiving: Closed
DESCRIPTION:
URL:https://stlholocaustmuseum.org/event/thanksgiving-closed/
LOCATION:St. Louis Kaplan Feldman Holocaust Museum\, 36 Millstone Campus Drive\, St. Louis\, MO\, 63146\, United States
CATEGORIES:Holiday Closure
END:VEVENT
BEGIN:VEVENT
DTSTART;VALUE=DATE:20261225
DTEND;VALUE=DATE:20261226
DTSTAMP:20260422T173532
CREATED:20260421T184806Z
LAST-MODIFIED:20260421T184806Z
UID:376206-1798156800-1798243199@stlholocaustmuseum.org
SUMMARY:Christmas: Closed
DESCRIPTION:
URL:https://stlholocaustmuseum.org/event/christmas-closed/
LOCATION:St. Louis Kaplan Feldman Holocaust Museum\, 36 Millstone Campus Drive\, St. Louis\, MO\, 63146\, United States
CATEGORIES:Holiday Closure
END:VEVENT
BEGIN:VEVENT
DTSTART;VALUE=DATE:20270101
DTEND;VALUE=DATE:20270102
DTSTAMP:20260422T173532
CREATED:20260421T184829Z
LAST-MODIFIED:20260421T184829Z
UID:376207-1798761600-1798847999@stlholocaustmuseum.org
SUMMARY:New Year’s Day: Closed
DESCRIPTION:
URL:https://stlholocaustmuseum.org/event/new-years-day-closed-2/
LOCATION:St. Louis Kaplan Feldman Holocaust Museum\, 36 Millstone Campus Drive\, St. Louis\, MO\, 63146\, United States
CATEGORIES:Holiday Closure
END:VEVENT
END:VCALENDAR